BEGIN:VCALENDAR
VERSION:2.0
PRODID:-//hacksw/handcal//NONSGML v1.0//EN
BEGIN:VEVENT
SUMMARY:Rando Couzeix
UID:836c3711-9c36-4b91-a82f-b833d32cfe72
DTSTART:20260407T120000Z
DTEND:20260407T220000Z
LOCATION:Localisation   
CATEGORIES:Sportif
STATUS:
DESCRIPTION:<p>7 km rd</p>
URL;VALUE=URI:https://www.n-c-c.fr/evenements/2026/04/07/rando-couzeix-2433021
END:VEVENT
END:VCALENDAR
