BEGIN:VCALENDAR
VERSION:2.0
PRODID:-//hacksw/handcal//NONSGML v1.0//EN
BEGIN:VEVENT
SUMMARY:Nettoyage de printemps Annule
UID:bf3a0917-dc79-471d-bc0f-fa1462eb32bb
DTSTART:20260408T113000Z
DTEND:20260408T220000Z
LOCATION:Localisation   
CATEGORIES:Caritatif
STATUS:
DESCRIPTION:<p>Nettoyage des chemins couzeixois</p>
URL;VALUE=URI:https://www.n-c-c.fr/evenements/2026/04/08/nettoyage-de-printemps-annule-2433022
END:VEVENT
END:VCALENDAR
