BEGIN:VCALENDAR
VERSION:2.0
PRODID:-//hacksw/handcal//NONSGML v1.0//EN
BEGIN:VEVENT
SUMMARY:Ouvert a toute proposition
UID:c3586ccb-fded-4129-9960-c0cb38d186b5
DTSTART:20260627T220000Z
DTEND:20260628T220000Z
LOCATION:Localisation   
CATEGORIES:Sportif
STATUS:
DESCRIPTION:<p>Recherche accompagnateurs</p>
URL;VALUE=URI:https://www.n-c-c.fr/evenements/2026/06/28/ouvert-a-toute-proposition-2433921
END:VEVENT
END:VCALENDAR
