BEGIN:VCALENDAR
VERSION:2.0
PRODID:-//hacksw/handcal//NONSGML v1.0//EN
BEGIN:VEVENT
SUMMARY:Rando Aureil
UID:e9a04380-3a3a-4cba-afcd-900877335e5c
DTSTART:20260630T120000Z
DTEND:20260630T220000Z
LOCATION:Localisation   
CATEGORIES:Sportif
STATUS:
DESCRIPTION:<p>7 km rd</p>
URL;VALUE=URI:https://www.n-c-c.fr/evenements/2026/06/30/rando-aureil-2433412
END:VEVENT
END:VCALENDAR
